BEGIN:VCALENDAR
VERSION:2.0
PRODID:-//Sommelier Consult - ECPv6.15.14//NONSGML v1.0//EN
CALSCALE:GREGORIAN
METHOD:PUBLISH
X-WR-CALNAME:Sommelier Consult
X-ORIGINAL-URL:https://sommelier-consult.de
X-WR-CALDESC:Veranstaltungen für Sommelier Consult
REFRESH-INTERVAL;VALUE=DURATION:PT1H
X-Robots-Tag:noindex
X-PUBLISHED-TTL:PT1H
BEGIN:VTIMEZONE
TZID:Europe/Berlin
BEGIN:DAYLIGHT
TZOFFSETFROM:+0100
TZOFFSETTO:+0200
TZNAME:CEST
DTSTART:20250330T010000
END:DAYLIGHT
BEGIN:STANDARD
TZOFFSETFROM:+0200
TZOFFSETTO:+0100
TZNAME:CET
DTSTART:20251026T010000
END:STANDARD
BEGIN:DAYLIGHT
TZOFFSETFROM:+0100
TZOFFSETTO:+0200
TZNAME:CEST
DTSTART:20260329T010000
END:DAYLIGHT
BEGIN:STANDARD
TZOFFSETFROM:+0200
TZOFFSETTO:+0100
TZNAME:CET
DTSTART:20261025T010000
END:STANDARD
BEGIN:DAYLIGHT
TZOFFSETFROM:+0100
TZOFFSETTO:+0200
TZNAME:CEST
DTSTART:20270328T010000
END:DAYLIGHT
BEGIN:STANDARD
TZOFFSETFROM:+0200
TZOFFSETTO:+0100
TZNAME:CET
DTSTART:20271031T010000
END:STANDARD
END:VTIMEZONE
BEGIN:VEVENT
DTSTART;TZID=Europe/Berlin:20260425T130000
DTEND;TZID=Europe/Berlin:20260425T180000
DTSTAMP:20260421T113928
CREATED:20251104T212645Z
LAST-MODIFIED:20251104T212645Z
UID:4459-1777122000-1777140000@sommelier-consult.de
SUMMARY:VINVIN – Die Fachmesse für Herkunftsweine
DESCRIPTION:Herkunft schmecken\nDeutschlands Top-Weine an einem Ort\nEntdecken Sie über 120 Weingüter aus den bedeutendsten Weinregionen Deutschlands! \nAuch in 2026 präsentieren Maxime Herkunft Rheinhessen und Weinland Nahe gemeinsam mit Mosel\, Junge Pfalz\, Mittelrhein und Ahr unter dem Motto „Gemeinsam besser“ Weine aus Deutschlands besten Lagen. \nAuf der VINVIN treffen sich Winzer:innen und Fachhändler:innen\, die auf Qualität und Authentizität setzen. Erleben Sie Weine\, die ihre Herkunft erzählen – aus den spannendsten Lagen\, geprägt von Tradition und Innovation. Freuen Sie sich auf inspirierende Verkostungen\, spannende Gespräche und neue Partnerschaften\, die Ihr Sortiment bereichern. \nMasterclasses zu den Themen „Naturwein zeigt Herkunft“\, Spätburgunder und „Communication that matters“ sorgen für ein spannendes Rahmenprogramm zusätzlich zur Verkostung.\nTauchen Sie ein in die Welt deutscher Spitzenweine – VINVIN steht für Austausch\, Leidenschaft und die Zukunft des Weinhandwerks.
URL:https://sommelier-consult.de/event/vinvin-die-fachmesse-fuer-herkunftsweine/
LOCATION:Altes Postlager\, Mombacher Str. 11-15\, Mainz\, 55122\, Germany
ATTACH;FMTTYPE=image/png:https://sommelier-consult.de/wp-content/uploads/2025/11/1.png
ORGANIZER;CN="Weinland Nahe e.V.":MAILTO:info@weinland-nahe.de
END:VEVENT
END:VCALENDAR